BEGIN:VCALENDAR
VERSION:2.0
PRODID:-//wp-events-plugin.com//7.2.3.1//EN
BEGIN:VEVENT
UID:897@stjameshighwych.org.uk
DTSTART;TZID=Europe/London:20250601T093000
DTEND;TZID=Europe/London:20250601T103000
DTSTAMP:20250113T125007Z
URL:https://stjameshighwych.org.uk/events/9-30am-for-breakfast-follows-at-
 10-00am-family-service/
SUMMARY:9.30am for Breakfast follows at 10.00am Family Service
DESCRIPTION:
CATEGORIES:St James Events
END:VEVENT
BEGIN:VTIMEZONE
TZID:Europe/London
X-LIC-LOCATION:Europe/London
BEGIN:DAYLIGHT
DTSTART:20250330T020000
TZOFFSETFROM:+0000
TZOFFSETTO:+0100
TZNAME:BST
END:DAYLIGHT
END:VTIMEZONE
END:VCALENDAR