BEGIN:VCALENDAR
VERSION:2.0
PRODID:-//wp-events-plugin.com//7.2.3.1//EN
BEGIN:VEVENT
UID:972@stjameshighwych.org.uk
DTSTART;TZID=Europe/London:20251005T143000
DTEND;TZID=Europe/London:20251005T153000
DTSTAMP:20250812T111957Z
URL:https://stjameshighwych.org.uk/events/baptism-of-bimia-kiran-and-freya
 /
SUMMARY:Baptism of Bimia\, Kiran and Freya
DESCRIPTION:
CATEGORIES:St James Events
END:VEVENT
BEGIN:VTIMEZONE
TZID:Europe/London
X-LIC-LOCATION:Europe/London
BEGIN:DAYLIGHT
DTSTART:20250330T020000
TZOFFSETFROM:+0000
TZOFFSETTO:+0100
TZNAME:BST
END:DAYLIGHT
END:VTIMEZONE
END:VCALENDAR