BEGIN:VCALENDAR
VERSION:2.0
PRODID:-//wp-events-plugin.com//7.2.3.1//EN
BEGIN:VEVENT
UID:973@stjameshighwych.org.uk
DTSTART;TZID=Europe/London:20251026T143000
DTEND;TZID=Europe/London:20251026T153000
DTSTAMP:20250812T112114Z
URL:https://stjameshighwych.org.uk/events/baptism-of-freya-holloway/
SUMMARY:Baptism of Freya Holloway
DESCRIPTION:
CATEGORIES:St James Events
END:VEVENT
BEGIN:VTIMEZONE
TZID:Europe/London
X-LIC-LOCATION:Europe/London
BEGIN:STANDARD
DTSTART:20251026T010000
TZOFFSETFROM:+0100
TZOFFSETTO:+0000
TZNAME:GMT
END:STANDARD
END:VTIMEZONE
END:VCALENDAR