BEGIN:VCALENDAR
VERSION:2.0
PRODID:-//wp-events-plugin.com//7.2.3.1//EN
BEGIN:VEVENT
UID:1074@stjameshighwych.org.uk
DTSTART;TZID=Europe/London:20261101T093000
DTEND;TZID=Europe/London:20261101T103000
DTSTAMP:20260108T121304Z
URL:https://stjameshighwych.org.uk/events/breakfast-at-9-30am-followed-by-
 family-service-at-10-00am-11/
SUMMARY:Breakfast at 9.30am followed by Family Service at 10.00am
DESCRIPTION:
CATEGORIES:St James Events
END:VEVENT
BEGIN:VTIMEZONE
TZID:Europe/London
X-LIC-LOCATION:Europe/London
BEGIN:STANDARD
DTSTART:20261025T010000
TZOFFSETFROM:+0100
TZOFFSETTO:+0000
TZNAME:GMT
END:STANDARD
END:VTIMEZONE
END:VCALENDAR