BEGIN:VCALENDAR
VERSION:2.0
PRODID:-//wp-events-plugin.com//7.2.3.1//EN
BEGIN:VEVENT
UID:976@stjameshighwych.org.uk
DTSTART;TZID=Europe/London:20260104T090000
DTEND;TZID=Europe/London:20260104T110000
DTSTAMP:20251212T122106Z
URL:https://stjameshighwych.org.uk/events/breakfast-followed-by-family-ser
 vice/
SUMMARY:Breakfast followed by Family Service
DESCRIPTION:
CATEGORIES:St James Events
END:VEVENT
BEGIN:VTIMEZONE
TZID:Europe/London
X-LIC-LOCATION:Europe/London
BEGIN:STANDARD
DTSTART:20251026T010000
TZOFFSETFROM:+0100
TZOFFSETTO:+0000
TZNAME:GMT
END:STANDARD
END:VTIMEZONE
END:VCALENDAR