BEGIN:VCALENDAR
VERSION:2.0
PRODID:-//wp-events-plugin.com//7.2.3.1//EN
BEGIN:VEVENT
UID:838@stjameshighwych.org.uk
DTSTART;TZID=Europe/London:20241224T030000
DTEND;TZID=Europe/London:20241224T040000
DTSTAMP:20241010T092517Z
URL:https://stjameshighwych.org.uk/events/christmas-jumper-christingle-st-
 marys/
SUMMARY:Christmas Jumper Christingle\, St Mary's
DESCRIPTION:
CATEGORIES:St Marys Events
END:VEVENT
BEGIN:VTIMEZONE
TZID:Europe/London
X-LIC-LOCATION:Europe/London
BEGIN:STANDARD
DTSTART:20241027T010000
TZOFFSETFROM:+0100
TZOFFSETTO:+0000
TZNAME:GMT
END:STANDARD
END:VTIMEZONE
END:VCALENDAR