BEGIN:VCALENDAR
VERSION:2.0
PRODID:-//wp-events-plugin.com//7.2.3.1//EN
BEGIN:VEVENT
UID:1051@stjameshighwych.org.uk
DTSTART;TZID=Europe/London:20261122T111500
DTEND;TZID=Europe/London:20261122T121500
DTSTAMP:20260107T115734Z
URL:https://stjameshighwych.org.uk/events/family-service-st-botolphs-eastw
 ick-12/
SUMMARY:Family Service\, St Botolph's\, Eastwick
DESCRIPTION:
CATEGORIES:St Botolphs Events
END:VEVENT
BEGIN:VTIMEZONE
TZID:Europe/London
X-LIC-LOCATION:Europe/London
BEGIN:STANDARD
DTSTART:20261025T010000
TZOFFSETFROM:+0100
TZOFFSETTO:+0000
TZNAME:GMT
END:STANDARD
END:VTIMEZONE
END:VCALENDAR