BEGIN:VCALENDAR
VERSION:2.0
PRODID:-//wp-events-plugin.com//7.2.3.1//EN
BEGIN:VEVENT
UID:771@stjameshighwych.org.uk
DTSTART;TZID=Europe/London:20241103T093000
DTEND;TZID=Europe/London:20241103T110000
DTSTAMP:20241010T091040Z
URL:https://stjameshighwych.org.uk/events/family-service-st-james-13/
SUMMARY:9.30am for Breakfast and 10.00am start of Family Service\, St James
DESCRIPTION:
CATEGORIES:St James Events
END:VEVENT
BEGIN:VTIMEZONE
TZID:Europe/London
X-LIC-LOCATION:Europe/London
BEGIN:STANDARD
DTSTART:20241027T010000
TZOFFSETFROM:+0100
TZOFFSETTO:+0000
TZNAME:GMT
END:STANDARD
END:VTIMEZONE
END:VCALENDAR