BEGIN:VCALENDAR
VERSION:2.0
PRODID:-//wp-events-plugin.com//7.2.3.1//EN
BEGIN:VEVENT
UID:857@stjameshighwych.org.uk
DTSTART;TZID=Europe/London:20241212T123000
DTEND;TZID=Europe/London:20241212T133000
DTSTAMP:20241120T144917Z
URL:https://stjameshighwych.org.uk/events/funeral-and-burial-of-eric-willi
 son/
SUMMARY:Funeral and Burial of Eric Willison
DESCRIPTION:
CATEGORIES:St James Events
END:VEVENT
BEGIN:VTIMEZONE
TZID:Europe/London
X-LIC-LOCATION:Europe/London
BEGIN:STANDARD
DTSTART:20241027T010000
TZOFFSETFROM:+0100
TZOFFSETTO:+0000
TZNAME:GMT
END:STANDARD
END:VTIMEZONE
END:VCALENDAR