BEGIN:VCALENDAR
VERSION:2.0
PRODID:-//wp-events-plugin.com//7.2.3.1//EN
BEGIN:VEVENT
UID:831@stjameshighwych.org.uk
DTSTART;TZID=Europe/London:20240904T113000
DTEND;TZID=Europe/London:20240904T130000
DTSTAMP:20240903T090718Z
URL:https://stjameshighwych.org.uk/events/funeral-of-graham-frank-brace-fo
 llowed-by-burial-in-churchyard/
SUMMARY:Funeral of Graham Frank Brace followed by burial in churchyard.
DESCRIPTION:
CATEGORIES:St James Events
END:VEVENT
BEGIN:VTIMEZONE
TZID:Europe/London
X-LIC-LOCATION:Europe/London
BEGIN:DAYLIGHT
DTSTART:20240331T020000
TZOFFSETFROM:+0000
TZOFFSETTO:+0100
TZNAME:BST
END:DAYLIGHT
END:VTIMEZONE
END:VCALENDAR