BEGIN:VCALENDAR
VERSION:2.0
PRODID:-//wp-events-plugin.com//7.2.3.1//EN
BEGIN:VEVENT
UID:960@stjameshighwych.org.uk
DTSTART;TZID=Europe/London:20250713T130000
DTEND;TZID=Europe/London:20250713T180000
DTSTAMP:20250506T100133Z
URL:https://stjameshighwych.org.uk/events/harlow-singers/
SUMMARY:Harlow Singers
DESCRIPTION:
CATEGORIES:St James Events
END:VEVENT
BEGIN:VTIMEZONE
TZID:Europe/London
X-LIC-LOCATION:Europe/London
BEGIN:DAYLIGHT
DTSTART:20250330T020000
TZOFFSETFROM:+0000
TZOFFSETTO:+0100
TZNAME:BST
END:DAYLIGHT
END:VTIMEZONE
END:VCALENDAR