BEGIN:VCALENDAR
VERSION:2.0
PRODID:-//wp-events-plugin.com//7.2.3.1//EN
BEGIN:VEVENT
UID:833@stjameshighwych.org.uk
DTSTART;TZID=Europe/London:20241012T100000
DTEND;TZID=Europe/London:20241012T120000
DTSTAMP:20240919T084048Z
URL:https://stjameshighwych.org.uk/events/macmillan-coffee-morning-organis
 ed-by-dawn-keating/
SUMMARY:MacMillan Coffee Morning - organised by Dawn Keating
DESCRIPTION:
CATEGORIES:St James Events
END:VEVENT
BEGIN:VTIMEZONE
TZID:Europe/London
X-LIC-LOCATION:Europe/London
BEGIN:DAYLIGHT
DTSTART:20240331T020000
TZOFFSETFROM:+0000
TZOFFSETTO:+0100
TZNAME:BST
END:DAYLIGHT
END:VTIMEZONE
END:VCALENDAR