BEGIN:VCALENDAR
VERSION:2.0
PRODID:-//wp-events-plugin.com//7.2.3.1//EN
BEGIN:VEVENT
UID:1052@stjameshighwych.org.uk
DTSTART;TZID=Europe/London:20261108T000000
DTEND;TZID=Europe/London:20261108T000000
DTSTAMP:20260107T115937Z
URL:https://stjameshighwych.org.uk/events/remembrance-day-service-at-eastw
 ick-war-memorial-eastwick-village-followed-by-refreshments-at-st-botolphs/
SUMMARY:Remembrance Day Service at Eastwick War Memorial\, Eastwick village
  followed by refreshments at St Botolph's
DESCRIPTION:
CATEGORIES:St Botolphs Events
END:VEVENT
BEGIN:VTIMEZONE
TZID:Europe/London
X-LIC-LOCATION:Europe/London
BEGIN:STANDARD
DTSTART:20261025T010000
TZOFFSETFROM:+0100
TZOFFSETTO:+0000
TZNAME:GMT
END:STANDARD
END:VTIMEZONE
END:VCALENDAR