BEGIN:VCALENDAR
VERSION:2.0
PRODID:-//wp-events-plugin.com//7.2.3.1//EN
BEGIN:VEVENT
UID:698@stjameshighwych.org.uk
DTSTART;TZID=Europe/London:20240905T090000
DTEND;TZID=Europe/London:20240908T170000
DTSTAMP:20231116T120148Z
URL:https://stjameshighwych.org.uk/events/scarecrow-festival-2/
SUMMARY:Scarecrow Festival
DESCRIPTION:
CATEGORIES:St James Events
END:VEVENT
BEGIN:VTIMEZONE
TZID:Europe/London
X-LIC-LOCATION:Europe/London
BEGIN:DAYLIGHT
DTSTART:20240331T020000
TZOFFSETFROM:+0000
TZOFFSETTO:+0100
TZNAME:BST
END:DAYLIGHT
END:VTIMEZONE
END:VCALENDAR