BEGIN:VCALENDAR
VERSION:2.0
PRODID:-//wp-events-plugin.com//7.2.3.1//EN
BEGIN:VEVENT
UID:793@stjameshighwych.org.uk
DTSTART;TZID=Europe/London:20241222T111500
DTEND;TZID=Europe/London:20241222T121500
DTSTAMP:20241010T092010Z
URL:https://stjameshighwych.org.uk/events/service-and-community-event-st-b
 otolphs-10/
SUMMARY:Family Service - Pop Up Nativity\, St Botolph's
DESCRIPTION:
CATEGORIES:St Botolphs Events
END:VEVENT
BEGIN:VTIMEZONE
TZID:Europe/London
X-LIC-LOCATION:Europe/London
BEGIN:STANDARD
DTSTART:20241027T010000
TZOFFSETFROM:+0100
TZOFFSETTO:+0000
TZNAME:GMT
END:STANDARD
END:VTIMEZONE
END:VCALENDAR