BEGIN:VCALENDAR
VERSION:2.0
PRODID:-//wp-events-plugin.com//7.2.3.1//EN
BEGIN:VEVENT
UID:829@stjameshighwych.org.uk
DTSTART;TZID=Europe/London:20250524T150000
DTEND;TZID=Europe/London:20250524T160000
DTSTAMP:20240820T101809Z
URL:https://stjameshighwych.org.uk/events/wedding-blessing-of-toni-micheal
 -hennesy-ling/
SUMMARY:Wedding Blessing of Toni & Micheal Hennesy-Ling
DESCRIPTION:
CATEGORIES:St James Events
END:VEVENT
BEGIN:VTIMEZONE
TZID:Europe/London
X-LIC-LOCATION:Europe/London
BEGIN:DAYLIGHT
DTSTART:20250330T020000
TZOFFSETFROM:+0000
TZOFFSETTO:+0100
TZNAME:BST
END:DAYLIGHT
END:VTIMEZONE
END:VCALENDAR