BEGIN:VCALENDAR
VERSION:2.0
PRODID:-//wp-events-plugin.com//7.2.3.1//EN
BEGIN:VEVENT
UID:847@stjameshighwych.org.uk
DTSTART;TZID=Europe/London:20251124T140000
DTEND;TZID=Europe/London:20251124T150000
DTSTAMP:20250127T114335Z
URL:https://stjameshighwych.org.uk/events/wedding-of-milly-sharpe-and-dan-
 webber/
SUMMARY:Wedding of Milly Sharpe and Daniel Webber
DESCRIPTION:
CATEGORIES:St James Events
END:VEVENT
BEGIN:VTIMEZONE
TZID:Europe/London
X-LIC-LOCATION:Europe/London
BEGIN:STANDARD
DTSTART:20251026T010000
TZOFFSETFROM:+0100
TZOFFSETTO:+0000
TZNAME:GMT
END:STANDARD
END:VTIMEZONE
END:VCALENDAR